Workbook

Sheet Istruzioni
A1: Modello registro fatture di acquisto (passive) e scadenzario fornitori
A2: Gratuito, senza macro. Funziona in Microsoft Excel, LibreOffice Calc e Google Fogli. Versione 17/10/2026 – https://aprip7m.com/registro-fatture-acquisto-excel/
A4: A cosa serve
A5: Tenere in ordine le fatture ricevute dai fornitori, vedere l’IVA per aliquota e per mese, sapere cosa è scaduto o in scadenza e trovare i doppioni.
A6: È uno strumento di lavoro e di controllo: NON sostituisce il registro IVA degli acquisti (art. 25 DPR 633/1972; dal 1° gennaio 2027 art. 88 del Testo unico IVA,
A7: D.Lgs. 10/2026) tenuto da te o dal commercialista, né le bozze dei registri IVA precompilati dell’Agenzia delle Entrate. Detraibilità e liquidazione: chiedi al commercialista.
A9: I fogli
A10: Registro fatture – una riga per fattura (o per aliquota). È l’unico foglio dove scrivere: gli altri si calcolano da qui.
A11: IVA per aliquota – imponibile e IVA per 22, 10, 5, 4 % e per Natura N1…N7, più i totali per mese e per trimestre dell’anno scelto.
A12: Scadenzario – ogni riga del registro con scadenza, importo, giorni alla scadenza e stato (Scaduta, In scadenza entro 7 giorni, Futura, Pagata).
A13: Esempio (dati fittizi) – sette righe inventate già compilate, per vedere come si usa. Puoi cancellare il foglio quando vuoi.
A15: Come compilare il registro
... A32: Le righe del Registro esportato si incollano qui a partire dalla cella A2. I file restano sul tuo computer: nessun upload.

Sheet Registro fatture
A1: File | B1: Numero | C1: Data | D1: Tipo documento | E1: Fornitore | F1: P.IVA fornitore | G1: C.F. fornitore | H1: Cliente | I1: P.IVA/C.F. cliente | J1: Imponibile | K1: IVA | L1: Totale | M1: Divisa | N1: Scadenza pagamento | O1: Firmatario | P1: Integrità firma | Q1: Duplicato | R1: Aliquota IVA % | S1: Natura | T1: N. protocollo | U1: Data ricezione | V1: Pagata il | W1: Note | X1: Data riepilogo
L2: =IF(AND(J2="",K2=""),"",J2+K2) | Q2: =IF(B2="","",IF(SUMPRODUCT(--($F$2:$F$501&"|"&$B$2:$B$501&"|"&$C$2:$C$501&"|"&$R$2:$R$501=F2&"|"&B2&"|"&C2&"|"&R2))>1,"Sì","")) | X2: =IF(B2="","",IF(U2<>"",U2,C2))
L3: =IF(AND(J3="",K3=""),"",J3+K3) | Q3: =IF(B3="","",IF(SUMPRODUCT(--($F$2:$F$501&"|"&$B$2:$B$501&"|"&$C$2:$C$501&"|"&$R$2:$R$501=F3&"|"&B3&"|"&C3&"|"&R3))>1,"Sì","")) | X3: =IF(B3="","",IF(U3<>"",U3,C3))
L4: =IF(AND(J4="",K4=""),"",J4+K4) | Q4: =IF(B4="","",IF(SUMPRODUCT(--($F$2:$F$501&"|"&$B$2:$B$501&"|"&$C$2:$C$501&"|"&$R$2:$R$501=F4&"|"&B4&"|"&C4&"|"&R4))>1,"Sì","")) | X4: =IF(B4="","",IF(U4<>"",U4,C4))
L5: =IF(AND(J5="",K5=""),"",J5+K5) | Q5: =IF(B5="","",IF(SUMPRODUCT(--($F$2:$F$501&"|"&$B$2:$B$501&"|"&$C$2:$C$501&"|"&$R$2:$R$501=F5&"|"&B5&"|"&C5&"|"&R5))>1,"Sì","")) | X5: =IF(B5="","",IF(U5<>"",U5,C5))
L6: =IF(AND(J6="",K6=""),"",J6+K6) | Q6: =IF(B6="","",IF(SUMPRODUCT(--($F$2:$F$501&"|"&$B$2:$B$501&"|"&$C$2:$C$501&"|"&$R$2:$R$501=F6&"|"&B6&"|"&C6&"|"&R6))>1,"Sì","")) | X6: =IF(B6="","",IF(U6<>"",U6,C6))
L7: =IF(AND(J7="",K7=""),"",J7+K7) | Q7: =IF(B7="","",IF(SUMPRODUCT(--($F$2:$F$501&"|"&$B$2:$B$501&"|"&$C$2:$C$501&"|"&$R$2:$R$501=F7&"|"&B7&"|"&C7&"|"&R7))>1,"Sì","")) | X7: =IF(B7="","",IF(U7<>"",U7,C7))
L8: =IF(AND(J8="",K8=""),"",J8+K8) | Q8: =IF(B8="","",IF(SUMPRODUCT(--($F$2:$F$501&"|"&$B$2:$B$501&"|"&$C$2:$C$501&"|"&$R$2:$R$501=F8&"|"&B8&"|"&C8&"|"&R8))>1,"Sì","")) | X8: =IF(B8="","",IF(U8<>"",U8,C8))
L9: =IF(AND(J9="",K9=""),"",J9+K9) | Q9: =IF(B9="","",IF(SUMPRODUCT(--($F$2:$F$501&"|"&$B$2:$B$501&"|"&$C$2:$C$501&"|"&$R$2:$R$501=F9&"|"&B9&"|"&C9&"|"&R9))>1,"Sì","")) | X9: =IF(B9="","",IF(U9<>"",U9,C9))
L10: =IF(AND(J10="",K10=""),"",J10+K10) | Q10: =IF(B10="","",IF(SUMPRODUCT(--($F$2:$F$501&"|"&$B$2:$B$501&"|"&$C$2:$C$501&"|"&$R$2:$R$501=F10&"|"&B10&"|"&C10&"|"&R10))>1,"Sì","")) | X10: =IF(B10="","",IF(U10<>"",U10,C10))
L11: =IF(AND(J11="",K11=""),"",J11+K11) | Q11: =IF(B11="","",IF(SUMPRODUCT(--($F$2:$F$501&"|"&$B$2:$B$501&"|"&$C$2:$C$501&"|"&$R$2:$R$501=F11&"|"&B11&"|"&C11&"|"&R11))>1,"Sì","")) | X11: =IF(B11="","",IF(U11<>"",U11,C11))
L12: =IF(AND(J12="",K12=""),"",J12+K12) | Q12: =IF(B12="","",IF(SUMPRODUCT(--($F$2:$F$501&"|"&$B$2:$B$501&"|"&$C$2:$C$501&"|"&$R$2:$R$501=F12&"|"&B12&"|"&C12&"|"&R12))>1,"Sì","")) | X12: =IF(B12="","",IF(U12<>"",U12,C12))
L13: =IF(AND(J13="",K13=""),"",J13+K13) | Q13: =IF(B13="","",IF(SUMPRODUCT(--($F$2:$F$501&"|"&$B$2:$B$501&"|"&$C$2:$C$501&"|"&$R$2:$R$501=F13&"|"&B13&"|"&C13&"|"&R13))>1,"Sì","")) | X13: =IF(B13="","",IF(U13<>"",U13,C13))
... L501: =IF(AND(J501="",K501=""),"",J501+K501) | Q501: =IF(B501="","",IF(SUMPRODUCT(--($F$2:$F$501&"|"&$B$2:$B$501&"|"&$C$2:$C$501&"|"&$R$2:$R$501=F501&"|"&B501&"|"&C501&"|"&R501))>1,"Sì","")) | X501: =IF(B501="","",IF(U501<>"",U501,C501))

Sheet IVA per aliquota
A1: IVA per aliquota e natura (dal foglio Registro fatture)
A2: Somme delle righe del registro. È un controllo: detraibilità, inerenza e liquidazione restano al commercialista.
A4: Aliquota IVA % | B4: Natura | C4: Imponibile | D4: IVA | E4: N. righe
A5: 22 | C5: =SUMIF('Registro fatture'!$R$2:$R$501,A5,'Registro fatture'!$J$2:$J$501) | D5: =SUMIF('Registro fatture'!$R$2:$R$501,A5,'Registro fatture'!$K$2:$K$501) | E5: =COUNTIF('Registro fatture'!$R$2:$R$501,A5)
A6: 10 | C6: =SUMIF('Registro fatture'!$R$2:$R$501,A6,'Registro fatture'!$J$2:$J$501) | D6: =SUMIF('Registro fatture'!$R$2:$R$501,A6,'Registro fatture'!$K$2:$K$501) | E6: =COUNTIF('Registro fatture'!$R$2:$R$501,A6)
A7: 5 | C7: =SUMIF('Registro fatture'!$R$2:$R$501,A7,'Registro fatture'!$J$2:$J$501) | D7: =SUMIF('Registro fatture'!$R$2:$R$501,A7,'Registro fatture'!$K$2:$K$501) | E7: =COUNTIF('Registro fatture'!$R$2:$R$501,A7)
A8: 4 | C8: =SUMIF('Registro fatture'!$R$2:$R$501,A8,'Registro fatture'!$J$2:$J$501) | D8: =SUMIF('Registro fatture'!$R$2:$R$501,A8,'Registro fatture'!$K$2:$K$501) | E8: =COUNTIF('Registro fatture'!$R$2:$R$501,A8)
A9: 0 | B9: N1 | C9: =SUMIF('Registro fatture'!$S$2:$S$501,B9,'Registro fatture'!$J$2:$J$501) | D9: =SUMIF('Registro fatture'!$S$2:$S$501,B9,'Registro fatture'!$K$2:$K$501) | E9: =COUNTIF('Registro fatture'!$S$2:$S$501,B9)
A10: 0 | B10: N2.1 | C10: =SUMIF('Registro fatture'!$S$2:$S$501,B10,'Registro fatture'!$J$2:$J$501) | D10: =SUMIF('Registro fatture'!$S$2:$S$501,B10,'Registro fatture'!$K$2:$K$501) | E10: =COUNTIF('Registro fatture'!$S$2:$S$501,B10)
A11: 0 | B11: N2.2 | C11: =SUMIF('Registro fatture'!$S$2:$S$501,B11,'Registro fatture'!$J$2:$J$501) | D11: =SUMIF('Registro fatture'!$S$2:$S$501,B11,'Registro fatture'!$K$2:$K$501) | E11: =COUNTIF('Registro fatture'!$S$2:$S$501,B11)
A12: 0 | B12: N3.1 | C12: =SUMIF('Registro fatture'!$S$2:$S$501,B12,'Registro fatture'!$J$2:$J$501) | D12: =SUMIF('Registro fatture'!$S$2:$S$501,B12,'Registro fatture'!$K$2:$K$501) | E12: =COUNTIF('Registro fatture'!$S$2:$S$501,B12)
A13: 0 | B13: N3.2 | C13: =SUMIF('Registro fatture'!$S$2:$S$501,B13,'Registro fatture'!$J$2:$J$501) | D13: =SUMIF('Registro fatture'!$S$2:$S$501,B13,'Registro fatture'!$K$2:$K$501) | E13: =COUNTIF('Registro fatture'!$S$2:$S$501,B13)
A14: 0 | B14: N3.3 | C14: =SUMIF('Registro fatture'!$S$2:$S$501,B14,'Registro fatture'!$J$2:$J$501) | D14: =SUMIF('Registro fatture'!$S$2:$S$501,B14,'Registro fatture'!$K$2:$K$501) | E14: =COUNTIF('Registro fatture'!$S$2:$S$501,B14)
A15: 0 | B15: N3.4 | C15: =SUMIF('Registro fatture'!$S$2:$S$501,B15,'Registro fatture'!$J$2:$J$501) | D15: =SUMIF('Registro fatture'!$S$2:$S$501,B15,'Registro fatture'!$K$2:$K$501) | E15: =COUNTIF('Registro fatture'!$S$2:$S$501,B15)
A16: 0 | B16: N3.5 | C16: =SUMIF('Registro fatture'!$S$2:$S$501,B16,'Registro fatture'!$J$2:$J$501) | D16: =SUMIF('Registro fatture'!$S$2:$S$501,B16,'Registro fatture'!$K$2:$K$501) | E16: =COUNTIF('Registro fatture'!$S$2:$S$501,B16)
A17: 0 | B17: N3.6 | C17: =SUMIF('Registro fatture'!$S$2:$S$501,B17,'Registro fatture'!$J$2:$J$501) | D17: =SUMIF('Registro fatture'!$S$2:$S$501,B17,'Registro fatture'!$K$2:$K$501) | E17: =COUNTIF('Registro fatture'!$S$2:$S$501,B17)
A18: 0 | B18: N4 | C18: =SUMIF('Registro fatture'!$S$2:$S$501,B18,'Registro fatture'!$J$2:$J$501) | D18: =SUMIF('Registro fatture'!$S$2:$S$501,B18,'Registro fatture'!$K$2:$K$501) | E18: =COUNTIF('Registro fatture'!$S$2:$S$501,B18)
A19: 0 | B19: N5 | C19: =SUMIF('Registro fatture'!$S$2:$S$501,B19,'Registro fatture'!$J$2:$J$501) | D19: =SUMIF('Registro fatture'!$S$2:$S$501,B19,'Registro fatture'!$K$2:$K$501) | E19: =COUNTIF('Registro fatture'!$S$2:$S$501,B19)
A20: 0 | B20: N6.1 | C20: =SUMIF('Registro fatture'!$S$2:$S$501,B20,'Registro fatture'!$J$2:$J$501) | D20: =SUMIF('Registro fatture'!$S$2:$S$501,B20,'Registro fatture'!$K$2:$K$501) | E20: =COUNTIF('Registro fatture'!$S$2:$S$501,B20)
... A29: 0 | B29: N7 | C29: =SUMIF('Registro fatture'!$S$2:$S$501,B29,'Registro fatture'!$J$2:$J$501) | D29: =SUMIF('Registro fatture'!$S$2:$S$501,B29,'Registro fatture'!$K$2:$K$501) | E29: =COUNTIF('Registro fatture'!$S$2:$S$501,B29)
A30: Altro | B30: da controllare | C30: =SUM('Registro fatture'!$J$2:$J$501)-SUM(C5:C29) | D30: =SUM('Registro fatture'!$K$2:$K$501)-SUM(D5:D29) | E30: =SUMPRODUCT(('Registro fatture'!$B$2:$B$501<>"")*1)-SUM(E5:E29)
A31: Totale | C31: =SUM(C5:C30) | D31: =SUM(D5:D30) | E31: =SUM(E5:E30)
A32: "Altro" raccoglie le righe con aliquota mancante o non in elenco: se non è zero, completa la colonna Aliquota IVA % (o Natura) nel registro.
A34: Per mese (data di ricezione se compilata, altrimenti data fattura)
A35: Anno | B35: =YEAR(TODAY()) | C35: ← scrivi l’anno (es. 2026) al posto della formula
A36: Mese | B36: N. | C36: Imponibile | D36: IVA | E36: N. righe
A37: Gennaio | B37: 1 | C37: =SUMIFS('Registro fatture'!$J$2:$J$501,'Registro fatture'!$X$2:$X$501,">="&DATE($B$35,B37,1),'Registro fatture'!$X$2:$X$501,"<"&DATE($B$35,B37+1,1)) | D37: =SUMIFS('Registro fatture'!$K$2:$K$501,'Registro fatture'!$X$2:$X$501,">="&DATE($B$35,B37,1),'Registro fatture'!$X$2:$X$501,"<"&DATE($B$35,B37+1,1)) | E37: =COUNTIFS('Registro fatture'!$X$2:$X$501,">="&DATE($B$35,B37,1),'Registro fatture'!$X$2:$X$501,"<"&DATE($B$35,B37+1,1))
A38: Febbraio | B38: 2 | C38: =SUMIFS('Registro fatture'!$J$2:$J$501,'Registro fatture'!$X$2:$X$501,">="&DATE($B$35,B38,1),'Registro fatture'!$X$2:$X$501,"<"&DATE($B$35,B38+1,1)) | D38: =SUMIFS('Registro fatture'!$K$2:$K$501,'Registro fatture'!$X$2:$X$501,">="&DATE($B$35,B38,1),'Registro fatture'!$X$2:$X$501,"<"&DATE($B$35,B38+1,1)) | E38: =COUNTIFS('Registro fatture'!$X$2:$X$501,">="&DATE($B$35,B38,1),'Registro fatture'!$X$2:$X$501,"<"&DATE($B$35,B38+1,1))
A39: Marzo | B39: 3 | C39: =SUMIFS('Registro fatture'!$J$2:$J$501,'Registro fatture'!$X$2:$X$501,">="&DATE($B$35,B39,1),'Registro fatture'!$X$2:$X$501,"<"&DATE($B$35,B39+1,1)) | D39: =SUMIFS('Registro fatture'!$K$2:$K$501,'Registro fatture'!$X$2:$X$501,">="&DATE($B$35,B39,1),'Registro fatture'!$X$2:$X$501,"<"&DATE($B$35,B39+1,1)) | E39: =COUNTIFS('Registro fatture'!$X$2:$X$501,">="&DATE($B$35,B39,1),'Registro fatture'!$X$2:$X$501,"<"&DATE($B$35,B39+1,1))
A40: Aprile | B40: 4 | C40: =SUMIFS('Registro fatture'!$J$2:$J$501,'Registro fatture'!$X$2:$X$501,">="&DATE($B$35,B40,1),'Registro fatture'!$X$2:$X$501,"<"&DATE($B$35,B40+1,1)) | D40: =SUMIFS('Registro fatture'!$K$2:$K$501,'Registro fatture'!$X$2:$X$501,">="&DATE($B$35,B40,1),'Registro fatture'!$X$2:$X$501,"<"&DATE($B$35,B40+1,1)) | E40: =COUNTIFS('Registro fatture'!$X$2:$X$501,">="&DATE($B$35,B40,1),'Registro fatture'!$X$2:$X$501,"<"&DATE($B$35,B40+1,1))
A41: Maggio | B41: 5 | C41: =SUMIFS('Registro fatture'!$J$2:$J$501,'Registro fatture'!$X$2:$X$501,">="&DATE($B$35,B41,1),'Registro fatture'!$X$2:$X$501,"<"&DATE($B$35,B41+1,1)) | D41: =SUMIFS('Registro fatture'!$K$2:$K$501,'Registro fatture'!$X$2:$X$501,">="&DATE($B$35,B41,1),'Registro fatture'!$X$2:$X$501,"<"&DATE($B$35,B41+1,1)) | E41: =COUNTIFS('Registro fatture'!$X$2:$X$501,">="&DATE($B$35,B41,1),'Registro fatture'!$X$2:$X$501,"<"&DATE($B$35,B41+1,1))
A42: Giugno | B42: 6 | C42: =SUMIFS('Registro fatture'!$J$2:$J$501,'Registro fatture'!$X$2:$X$501,">="&DATE($B$35,B42,1),'Registro fatture'!$X$2:$X$501,"<"&DATE($B$35,B42+1,1)) | D42: =SUMIFS('Registro fatture'!$K$2:$K$501,'Registro fatture'!$X$2:$X$501,">="&DATE($B$35,B42,1),'Registro fatture'!$X$2:$X$501,"<"&DATE($B$35,B42+1,1)) | E42: =COUNTIFS('Registro fatture'!$X$2:$X$501,">="&DATE($B$35,B42,1),'Registro fatture'!$X$2:$X$501,"<"&DATE($B$35,B42+1,1))
A43: Luglio | B43: 7 | C43: =SUMIFS('Registro fatture'!$J$2:$J$501,'Registro fatture'!$X$2:$X$501,">="&DATE($B$35,B43,1),'Registro fatture'!$X$2:$X$501,"<"&DATE($B$35,B43+1,1)) | D43: =SUMIFS('Registro fatture'!$K$2:$K$501,'Registro fatture'!$X$2:$X$501,">="&DATE($B$35,B43,1),'Registro fatture'!$X$2:$X$501,"<"&DATE($B$35,B43+1,1)) | E43: =COUNTIFS('Registro fatture'!$X$2:$X$501,">="&DATE($B$35,B43,1),'Registro fatture'!$X$2:$X$501,"<"&DATE($B$35,B43+1,1))
A44: Agosto | B44: 8 | C44: =SUMIFS('Registro fatture'!$J$2:$J$501,'Registro fatture'!$X$2:$X$501,">="&DATE($B$35,B44,1),'Registro fatture'!$X$2:$X$501,"<"&DATE($B$35,B44+1,1)) | D44: =SUMIFS('Registro fatture'!$K$2:$K$501,'Registro fatture'!$X$2:$X$501,">="&DATE($B$35,B44,1),'Registro fatture'!$X$2:$X$501,"<"&DATE($B$35,B44+1,1)) | E44: =COUNTIFS('Registro fatture'!$X$2:$X$501,">="&DATE($B$35,B44,1),'Registro fatture'!$X$2:$X$501,"<"&DATE($B$35,B44+1,1))
A45: Settembre | B45: 9 | C45: =SUMIFS('Registro fatture'!$J$2:$J$501,'Registro fatture'!$X$2:$X$501,">="&DATE($B$35,B45,1),'Registro fatture'!$X$2:$X$501,"<"&DATE($B$35,B45+1,1)) | D45: =SUMIFS('Registro fatture'!$K$2:$K$501,'Registro fatture'!$X$2:$X$501,">="&DATE($B$35,B45,1),'Registro fatture'!$X$2:$X$501,"<"&DATE($B$35,B45+1,1)) | E45: =COUNTIFS('Registro fatture'!$X$2:$X$501,">="&DATE($B$35,B45,1),'Registro fatture'!$X$2:$X$501,"<"&DATE($B$35,B45+1,1))
A46: Ottobre | B46: 10 | C46: =SUMIFS('Registro fatture'!$J$2:$J$501,'Registro fatture'!$X$2:$X$501,">="&DATE($B$35,B46,1),'Registro fatture'!$X$2:$X$501,"<"&DATE($B$35,B46+1,1)) | D46: =SUMIFS('Registro fatture'!$K$2:$K$501,'Registro fatture'!$X$2:$X$501,">="&DATE($B$35,B46,1),'Registro fatture'!$X$2:$X$501,"<"&DATE($B$35,B46+1,1)) | E46: =COUNTIFS('Registro fatture'!$X$2:$X$501,">="&DATE($B$35,B46,1),'Registro fatture'!$X$2:$X$501,"<"&DATE($B$35,B46+1,1))
A47: Novembre | B47: 11 | C47: =SUMIFS('Registro fatture'!$J$2:$J$501,'Registro fatture'!$X$2:$X$501,">="&DATE($B$35,B47,1),'Registro fatture'!$X$2:$X$501,"<"&DATE($B$35,B47+1,1)) | D47: =SUMIFS('Registro fatture'!$K$2:$K$501,'Registro fatture'!$X$2:$X$501,">="&DATE($B$35,B47,1),'Registro fatture'!$X$2:$X$501,"<"&DATE($B$35,B47+1,1)) | E47: =COUNTIFS('Registro fatture'!$X$2:$X$501,">="&DATE($B$35,B47,1),'Registro fatture'!$X$2:$X$501,"<"&DATE($B$35,B47+1,1))
A48: Dicembre | B48: 12 | C48: =SUMIFS('Registro fatture'!$J$2:$J$501,'Registro fatture'!$X$2:$X$501,">="&DATE($B$35,B48,1),'Registro fatture'!$X$2:$X$501,"<"&DATE($B$35,B48+1,1)) | D48: =SUMIFS('Registro fatture'!$K$2:$K$501,'Registro fatture'!$X$2:$X$501,">="&DATE($B$35,B48,1),'Registro fatture'!$X$2:$X$501,"<"&DATE($B$35,B48+1,1)) | E48: =COUNTIFS('Registro fatture'!$X$2:$X$501,">="&DATE($B$35,B48,1),'Registro fatture'!$X$2:$X$501,"<"&DATE($B$35,B48+1,1))
A50: Trimestre | C50: Imponibile | D50: IVA | E50: N. righe
A51: 1° trimestre | C51: =SUM(C37:C39) | D51: =SUM(D37:D39) | E51: =SUM(E37:E39)
...

Sheet Scadenzario
A1: Numero | B1: Fornitore | C1: P.IVA fornitore | D1: Scadenza pagamento | E1: Importo | F1: Pagata il | G1: Giorni alla scadenza | H1: Stato | J1: Riepilogo
A2: =IF('Registro fatture'!$B2="","",'Registro fatture'!B2) | B2: =IF('Registro fatture'!$B2="","",'Registro fatture'!E2) | C2: =IF('Registro fatture'!$B2="","",'Registro fatture'!F2) | D2: =IF(OR('Registro fatture'!$B2="",'Registro fatture'!N2=""),"",'Registro fatture'!N2) | E2: =IF('Registro fatture'!$B2="","",'Registro fatture'!L2) | F2: =IF(OR('Registro fatture'!$B2="",'Registro fatture'!V2=""),"",'Registro fatture'!V2) | G2: =IF(OR(D2="",F2<>""),"",D2-TODAY()) | H2: =IF(A2="","",IF(F2<>"","Pagata",IF(D2="","Senza scadenza",IF(D2<TODAY(),"Scaduta",IF(D2-TODAY()<=7,"In scadenza","Futura"))))) | J2: Oggi | K2: =TODAY()
A3: =IF('Registro fatture'!$B3="","",'Registro fatture'!B3) | B3: =IF('Registro fatture'!$B3="","",'Registro fatture'!E3) | C3: =IF('Registro fatture'!$B3="","",'Registro fatture'!F3) | D3: =IF(OR('Registro fatture'!$B3="",'Registro fatture'!N3=""),"",'Registro fatture'!N3) | E3: =IF('Registro fatture'!$B3="","",'Registro fatture'!L3) | F3: =IF(OR('Registro fatture'!$B3="",'Registro fatture'!V3=""),"",'Registro fatture'!V3) | G3: =IF(OR(D3="",F3<>""),"",D3-TODAY()) | H3: =IF(A3="","",IF(F3<>"","Pagata",IF(D3="","Senza scadenza",IF(D3<TODAY(),"Scaduta",IF(D3-TODAY()<=7,"In scadenza","Futura"))))) | J3: Scaduto da pagare | K3: =SUMIF(H2:H501,"Scaduta",E2:E501)
A4: =IF('Registro fatture'!$B4="","",'Registro fatture'!B4) | B4: =IF('Registro fatture'!$B4="","",'Registro fatture'!E4) | C4: =IF('Registro fatture'!$B4="","",'Registro fatture'!F4) | D4: =IF(OR('Registro fatture'!$B4="",'Registro fatture'!N4=""),"",'Registro fatture'!N4) | E4: =IF('Registro fatture'!$B4="","",'Registro fatture'!L4) | F4: =IF(OR('Registro fatture'!$B4="",'Registro fatture'!V4=""),"",'Registro fatture'!V4) | G4: =IF(OR(D4="",F4<>""),"",D4-TODAY()) | H4: =IF(A4="","",IF(F4<>"","Pagata",IF(D4="","Senza scadenza",IF(D4<TODAY(),"Scaduta",IF(D4-TODAY()<=7,"In scadenza","Futura"))))) | J4: N. righe scadute | K4: =COUNTIF(H2:H501,"Scaduta")
A5: =IF('Registro fatture'!$B5="","",'Registro fatture'!B5) | B5: =IF('Registro fatture'!$B5="","",'Registro fatture'!E5) | C5: =IF('Registro fatture'!$B5="","",'Registro fatture'!F5) | D5: =IF(OR('Registro fatture'!$B5="",'Registro fatture'!N5=""),"",'Registro fatture'!N5) | E5: =IF('Registro fatture'!$B5="","",'Registro fatture'!L5) | F5: =IF(OR('Registro fatture'!$B5="",'Registro fatture'!V5=""),"",'Registro fatture'!V5) | G5: =IF(OR(D5="",F5<>""),"",D5-TODAY()) | H5: =IF(A5="","",IF(F5<>"","Pagata",IF(D5="","Senza scadenza",IF(D5<TODAY(),"Scaduta",IF(D5-TODAY()<=7,"In scadenza","Futura"))))) | J5: In scadenza entro 7 giorni | K5: =SUMIF(H2:H501,"In scadenza",E2:E501)
A6: =IF('Registro fatture'!$B6="","",'Registro fatture'!B6) | B6: =IF('Registro fatture'!$B6="","",'Registro fatture'!E6) | C6: =IF('Registro fatture'!$B6="","",'Registro fatture'!F6) | D6: =IF(OR('Registro fatture'!$B6="",'Registro fatture'!N6=""),"",'Registro fatture'!N6) | E6: =IF('Registro fatture'!$B6="","",'Registro fatture'!L6) | F6: =IF(OR('Registro fatture'!$B6="",'Registro fatture'!V6=""),"",'Registro fatture'!V6) | G6: =IF(OR(D6="",F6<>""),"",D6-TODAY()) | H6: =IF(A6="","",IF(F6<>"","Pagata",IF(D6="","Senza scadenza",IF(D6<TODAY(),"Scaduta",IF(D6-TODAY()<=7,"In scadenza","Futura"))))) | J6: Future | K6: =SUMIF(H2:H501,"Futura",E2:E501)
A7: =IF('Registro fatture'!$B7="","",'Registro fatture'!B7) | B7: =IF('Registro fatture'!$B7="","",'Registro fatture'!E7) | C7: =IF('Registro fatture'!$B7="","",'Registro fatture'!F7) | D7: =IF(OR('Registro fatture'!$B7="",'Registro fatture'!N7=""),"",'Registro fatture'!N7) | E7: =IF('Registro fatture'!$B7="","",'Registro fatture'!L7) | F7: =IF(OR('Registro fatture'!$B7="",'Registro fatture'!V7=""),"",'Registro fatture'!V7) | G7: =IF(OR(D7="",F7<>""),"",D7-TODAY()) | H7: =IF(A7="","",IF(F7<>"","Pagata",IF(D7="","Senza scadenza",IF(D7<TODAY(),"Scaduta",IF(D7-TODAY()<=7,"In scadenza","Futura"))))) | J7: Senza scadenza | K7: =SUMIF(H2:H501,"Senza scadenza",E2:E501)
A8: =IF('Registro fatture'!$B8="","",'Registro fatture'!B8) | B8: =IF('Registro fatture'!$B8="","",'Registro fatture'!E8) | C8: =IF('Registro fatture'!$B8="","",'Registro fatture'!F8) | D8: =IF(OR('Registro fatture'!$B8="",'Registro fatture'!N8=""),"",'Registro fatture'!N8) | E8: =IF('Registro fatture'!$B8="","",'Registro fatture'!L8) | F8: =IF(OR('Registro fatture'!$B8="",'Registro fatture'!V8=""),"",'Registro fatture'!V8) | G8: =IF(OR(D8="",F8<>""),"",D8-TODAY()) | H8: =IF(A8="","",IF(F8<>"","Pagata",IF(D8="","Senza scadenza",IF(D8<TODAY(),"Scaduta",IF(D8-TODAY()<=7,"In scadenza","Futura"))))) | J8: Pagate | K8: =SUMIF(H2:H501,"Pagata",E2:E501)
A9: =IF('Registro fatture'!$B9="","",'Registro fatture'!B9) | B9: =IF('Registro fatture'!$B9="","",'Registro fatture'!E9) | C9: =IF('Registro fatture'!$B9="","",'Registro fatture'!F9) | D9: =IF(OR('Registro fatture'!$B9="",'Registro fatture'!N9=""),"",'Registro fatture'!N9) | E9: =IF('Registro fatture'!$B9="","",'Registro fatture'!L9) | F9: =IF(OR('Registro fatture'!$B9="",'Registro fatture'!V9=""),"",'Registro fatture'!V9) | G9: =IF(OR(D9="",F9<>""),"",D9-TODAY()) | H9: =IF(A9="","",IF(F9<>"","Pagata",IF(D9="","Senza scadenza",IF(D9<TODAY(),"Scaduta",IF(D9-TODAY()<=7,"In scadenza","Futura")))))
A10: =IF('Registro fatture'!$B10="","",'Registro fatture'!B10) | B10: =IF('Registro fatture'!$B10="","",'Registro fatture'!E10) | C10: =IF('Registro fatture'!$B10="","",'Registro fatture'!F10) | D10: =IF(OR('Registro fatture'!$B10="",'Registro fatture'!N10=""),"",'Registro fatture'!N10) | E10: =IF('Registro fatture'!$B10="","",'Registro fatture'!L10) | F10: =IF(OR('Registro fatture'!$B10="",'Registro fatture'!V10=""),"",'Registro fatture'!V10) | G10: =IF(OR(D10="",F10<>""),"",D10-TODAY()) | H10: =IF(A10="","",IF(F10<>"","Pagata",IF(D10="","Senza scadenza",IF(D10<TODAY(),"Scaduta",IF(D10-TODAY()<=7,"In scadenza","Futura"))))) | J10: Le righe seguono il foglio Registro fatture (una per riga). Ordina o filtra con le frecce in intestazione.
A11: =IF('Registro fatture'!$B11="","",'Registro fatture'!B11) | B11: =IF('Registro fatture'!$B11="","",'Registro fatture'!E11) | C11: =IF('Registro fatture'!$B11="","",'Registro fatture'!F11) | D11: =IF(OR('Registro fatture'!$B11="",'Registro fatture'!N11=""),"",'Registro fatture'!N11) | E11: =IF('Registro fatture'!$B11="","",'Registro fatture'!L11) | F11: =IF(OR('Registro fatture'!$B11="",'Registro fatture'!V11=""),"",'Registro fatture'!V11) | G11: =IF(OR(D11="",F11<>""),"",D11-TODAY()) | H11: =IF(A11="","",IF(F11<>"","Pagata",IF(D11="","Senza scadenza",IF(D11<TODAY(),"Scaduta",IF(D11-TODAY()<=7,"In scadenza","Futura"))))) | J11: Stato: Scaduta = scadenza passata e non pagata; In scadenza = entro 7 giorni; Pagata = c’è “Pagata il”.
A12: =IF('Registro fatture'!$B12="","",'Registro fatture'!B12) | B12: =IF('Registro fatture'!$B12="","",'Registro fatture'!E12) | C12: =IF('Registro fatture'!$B12="","",'Registro fatture'!F12) | D12: =IF(OR('Registro fatture'!$B12="",'Registro fatture'!N12=""),"",'Registro fatture'!N12) | E12: =IF('Registro fatture'!$B12="","",'Registro fatture'!L12) | F12: =IF(OR('Registro fatture'!$B12="",'Registro fatture'!V12=""),"",'Registro fatture'!V12) | G12: =IF(OR(D12="",F12<>""),"",D12-TODAY()) | H12: =IF(A12="","",IF(F12<>"","Pagata",IF(D12="","Senza scadenza",IF(D12<TODAY(),"Scaduta",IF(D12-TODAY()<=7,"In scadenza","Futura")))))
A13: =IF('Registro fatture'!$B13="","",'Registro fatture'!B13) | B13: =IF('Registro fatture'!$B13="","",'Registro fatture'!E13) | C13: =IF('Registro fatture'!$B13="","",'Registro fatture'!F13) | D13: =IF(OR('Registro fatture'!$B13="",'Registro fatture'!N13=""),"",'Registro fatture'!N13) | E13: =IF('Registro fatture'!$B13="","",'Registro fatture'!L13) | F13: =IF(OR('Registro fatture'!$B13="",'Registro fatture'!V13=""),"",'Registro fatture'!V13) | G13: =IF(OR(D13="",F13<>""),"",D13-TODAY()) | H13: =IF(A13="","",IF(F13<>"","Pagata",IF(D13="","Senza scadenza",IF(D13<TODAY(),"Scaduta",IF(D13-TODAY()<=7,"In scadenza","Futura")))))
A14: =IF('Registro fatture'!$B14="","",'Registro fatture'!B14) | B14: =IF('Registro fatture'!$B14="","",'Registro fatture'!E14) | C14: =IF('Registro fatture'!$B14="","",'Registro fatture'!F14) | D14: =IF(OR('Registro fatture'!$B14="",'Registro fatture'!N14=""),"",'Registro fatture'!N14) | E14: =IF('Registro fatture'!$B14="","",'Registro fatture'!L14) | F14: =IF(OR('Registro fatture'!$B14="",'Registro fatture'!V14=""),"",'Registro fatture'!V14) | G14: =IF(OR(D14="",F14<>""),"",D14-TODAY()) | H14: =IF(A14="","",IF(F14<>"","Pagata",IF(D14="","Senza scadenza",IF(D14<TODAY(),"Scaduta",IF(D14-TODAY()<=7,"In scadenza","Futura")))))
A15: =IF('Registro fatture'!$B15="","",'Registro fatture'!B15) | B15: =IF('Registro fatture'!$B15="","",'Registro fatture'!E15) | C15: =IF('Registro fatture'!$B15="","",'Registro fatture'!F15) | D15: =IF(OR('Registro fatture'!$B15="",'Registro fatture'!N15=""),"",'Registro fatture'!N15) | E15: =IF('Registro fatture'!$B15="","",'Registro fatture'!L15) | F15: =IF(OR('Registro fatture'!$B15="",'Registro fatture'!V15=""),"",'Registro fatture'!V15) | G15: =IF(OR(D15="",F15<>""),"",D15-TODAY()) | H15: =IF(A15="","",IF(F15<>"","Pagata",IF(D15="","Senza scadenza",IF(D15<TODAY(),"Scaduta",IF(D15-TODAY()<=7,"In scadenza","Futura")))))
A16: =IF('Registro fatture'!$B16="","",'Registro fatture'!B16) | B16: =IF('Registro fatture'!$B16="","",'Registro fatture'!E16) | C16: =IF('Registro fatture'!$B16="","",'Registro fatture'!F16) | D16: =IF(OR('Registro fatture'!$B16="",'Registro fatture'!N16=""),"",'Registro fatture'!N16) | E16: =IF('Registro fatture'!$B16="","",'Registro fatture'!L16) | F16: =IF(OR('Registro fatture'!$B16="",'Registro fatture'!V16=""),"",'Registro fatture'!V16) | G16: =IF(OR(D16="",F16<>""),"",D16-TODAY()) | H16: =IF(A16="","",IF(F16<>"","Pagata",IF(D16="","Senza scadenza",IF(D16<TODAY(),"Scaduta",IF(D16-TODAY()<=7,"In scadenza","Futura")))))
A17: =IF('Registro fatture'!$B17="","",'Registro fatture'!B17) | B17: =IF('Registro fatture'!$B17="","",'Registro fatture'!E17) | C17: =IF('Registro fatture'!$B17="","",'Registro fatture'!F17) | D17: =IF(OR('Registro fatture'!$B17="",'Registro fatture'!N17=""),"",'Registro fatture'!N17) | E17: =IF('Registro fatture'!$B17="","",'Registro fatture'!L17) | F17: =IF(OR('Registro fatture'!$B17="",'Registro fatture'!V17=""),"",'Registro fatture'!V17) | G17: =IF(OR(D17="",F17<>""),"",D17-TODAY()) | H17: =IF(A17="","",IF(F17<>"","Pagata",IF(D17="","Senza scadenza",IF(D17<TODAY(),"Scaduta",IF(D17-TODAY()<=7,"In scadenza","Futura")))))
A18: =IF('Registro fatture'!$B18="","",'Registro fatture'!B18) | B18: =IF('Registro fatture'!$B18="","",'Registro fatture'!E18) | C18: =IF('Registro fatture'!$B18="","",'Registro fatture'!F18) | D18: =IF(OR('Registro fatture'!$B18="",'Registro fatture'!N18=""),"",'Registro fatture'!N18) | E18: =IF('Registro fatture'!$B18="","",'Registro fatture'!L18) | F18: =IF(OR('Registro fatture'!$B18="",'Registro fatture'!V18=""),"",'Registro fatture'!V18) | G18: =IF(OR(D18="",F18<>""),"",D18-TODAY()) | H18: =IF(A18="","",IF(F18<>"","Pagata",IF(D18="","Senza scadenza",IF(D18<TODAY(),"Scaduta",IF(D18-TODAY()<=7,"In scadenza","Futura")))))
A19: =IF('Registro fatture'!$B19="","",'Registro fatture'!B19) | B19: =IF('Registro fatture'!$B19="","",'Registro fatture'!E19) | C19: =IF('Registro fatture'!$B19="","",'Registro fatture'!F19) | D19: =IF(OR('Registro fatture'!$B19="",'Registro fatture'!N19=""),"",'Registro fatture'!N19) | E19: =IF('Registro fatture'!$B19="","",'Registro fatture'!L19) | F19: =IF(OR('Registro fatture'!$B19="",'Registro fatture'!V19=""),"",'Registro fatture'!V19) | G19: =IF(OR(D19="",F19<>""),"",D19-TODAY()) | H19: =IF(A19="","",IF(F19<>"","Pagata",IF(D19="","Senza scadenza",IF(D19<TODAY(),"Scaduta",IF(D19-TODAY()<=7,"In scadenza","Futura")))))
A20: =IF('Registro fatture'!$B20="","",'Registro fatture'!B20) | B20: =IF('Registro fatture'!$B20="","",'Registro fatture'!E20) | C20: =IF('Registro fatture'!$B20="","",'Registro fatture'!F20) | D20: =IF(OR('Registro fatture'!$B20="",'Registro fatture'!N20=""),"",'Registro fatture'!N20) | E20: =IF('Registro fatture'!$B20="","",'Registro fatture'!L20) | F20: =IF(OR('Registro fatture'!$B20="",'Registro fatture'!V20=""),"",'Registro fatture'!V20) | G20: =IF(OR(D20="",F20<>""),"",D20-TODAY()) | H20: =IF(A20="","",IF(F20<>"","Pagata",IF(D20="","Senza scadenza",IF(D20<TODAY(),"Scaduta",IF(D20-TODAY()<=7,"In scadenza","Futura")))))
A21: =IF('Registro fatture'!$B21="","",'Registro fatture'!B21) | B21: =IF('Registro fatture'!$B21="","",'Registro fatture'!E21) | C21: =IF('Registro fatture'!$B21="","",'Registro fatture'!F21) | D21: =IF(OR('Registro fatture'!$B21="",'Registro fatture'!N21=""),"",'Registro fatture'!N21) | E21: =IF('Registro fatture'!$B21="","",'Registro fatture'!L21) | F21: =IF(OR('Registro fatture'!$B21="",'Registro fatture'!V21=""),"",'Registro fatture'!V21) | G21: =IF(OR(D21="",F21<>""),"",D21-TODAY()) | H21: =IF(A21="","",IF(F21<>"","Pagata",IF(D21="","Senza scadenza",IF(D21<TODAY(),"Scaduta",IF(D21-TODAY()<=7,"In scadenza","Futura")))))
A22: =IF('Registro fatture'!$B22="","",'Registro fatture'!B22) | B22: =IF('Registro fatture'!$B22="","",'Registro fatture'!E22) | C22: =IF('Registro fatture'!$B22="","",'Registro fatture'!F22) | D22: =IF(OR('Registro fatture'!$B22="",'Registro fatture'!N22=""),"",'Registro fatture'!N22) | E22: =IF('Registro fatture'!$B22="","",'Registro fatture'!L22) | F22: =IF(OR('Registro fatture'!$B22="",'Registro fatture'!V22=""),"",'Registro fatture'!V22) | G22: =IF(OR(D22="",F22<>""),"",D22-TODAY()) | H22: =IF(A22="","",IF(F22<>"","Pagata",IF(D22="","Senza scadenza",IF(D22<TODAY(),"Scaduta",IF(D22-TODAY()<=7,"In scadenza","Futura")))))
A23: =IF('Registro fatture'!$B23="","",'Registro fatture'!B23) | B23: =IF('Registro fatture'!$B23="","",'Registro fatture'!E23) | C23: =IF('Registro fatture'!$B23="","",'Registro fatture'!F23) | D23: =IF(OR('Registro fatture'!$B23="",'Registro fatture'!N23=""),"",'Registro fatture'!N23) | E23: =IF('Registro fatture'!$B23="","",'Registro fatture'!L23) | F23: =IF(OR('Registro fatture'!$B23="",'Registro fatture'!V23=""),"",'Registro fatture'!V23) | G23: =IF(OR(D23="",F23<>""),"",D23-TODAY()) | H23: =IF(A23="","",IF(F23<>"","Pagata",IF(D23="","Senza scadenza",IF(D23<TODAY(),"Scaduta",IF(D23-TODAY()<=7,"In scadenza","Futura")))))
... A501: =IF('Registro fatture'!$B501="","",'Registro fatture'!B501) | B501: =IF('Registro fatture'!$B501="","",'Registro fatture'!E501) | C501: =IF('Registro fatture'!$B501="","",'Registro fatture'!F501) | D501: =IF(OR('Registro fatture'!$B501="",'Registro fatture'!N501=""),"",'Registro fatture'!N501) | E501: =IF('Registro fatture'!$B501="","",'Registro fatture'!L501) | F501: =IF(OR('Registro fatture'!$B501="",'Registro fatture'!V501=""),"",'Registro fatture'!V501) | G501: =IF(OR(D501="",F501<>""),"",D501-TODAY()) | H501: =IF(A501="","",IF(F501<>"","Pagata",IF(D501="","Senza scadenza",IF(D501<TODAY(),"Scaduta",IF(D501-TODAY()<=7,"In scadenza","Futura")))))

Sheet Esempio (dati fittizi)
A1: File | B1: Numero | C1: Data | D1: Tipo documento | E1: Fornitore | F1: P.IVA fornitore | G1: C.F. fornitore | H1: Cliente | I1: P.IVA/C.F. cliente | J1: Imponibile | K1: IVA | L1: Totale | M1: Divisa | N1: Scadenza pagamento | O1: Firmatario | P1: Integrità firma | Q1: Duplicato | R1: Aliquota IVA % | S1: Natura | T1: N. protocollo | U1: Data ricezione | V1: Pagata il | W1: Note | X1: Data riepilogo | Y1: Giorni alla scadenza | Z1: Stato
A2: IT00000000001_00118.xml | B2: 118/2026 | C2: 46266 | D2: TD01 | E2: Esempio Alfa Forniture S.r.l. (fittizia) | F2: IT00000000001 | H2: La tua azienda (esempio) | J2: 1000 | K2: 220 | L2: =IF(AND(J2="",K2=""),"",J2+K2) | M2: EUR | N2: 46295 | Q2: =IF(B2="","",IF(SUMPRODUCT(--($F$2:$F$8&"|"&$B$2:$B$8&"|"&$C$2:$C$8&"|"&$R$2:$R$8=F2&"|"&B2&"|"&C2&"|"&R2))>1,"Sì","")) | R2: 22 | T2: 1 | U2: 46267 | V2: 46294 | W2: DATI FITTIZI | X2: =IF(B2="","",IF(U2<>"",U2,C2)) | Y2: =IF(OR(N2="",V2<>""),"",N2-TODAY()) | Z2: =IF(B2="","",IF(V2<>"","Pagata",IF(N2="","Senza scadenza",IF(N2<TODAY(),"Scaduta",IF(N2-TODAY()<=7,"In scadenza","Futura")))))
B3: 45/A | C3: 46280 | D3: TD01 | E3: Esempio Beta Servizi S.n.c. (fittizia) | F3: IT00000000002 | J3: 250 | K3: 55 | L3: =IF(AND(J3="",K3=""),"",J3+K3) | M3: EUR | N3: 46310 | Q3: =IF(B3="","",IF(SUMPRODUCT(--($F$2:$F$8&"|"&$B$2:$B$8&"|"&$C$2:$C$8&"|"&$R$2:$R$8=F3&"|"&B3&"|"&C3&"|"&R3))>1,"Sì","")) | R3: 22 | T3: 2 | U3: 46281 | W3: DATI FITTIZI – stessa fattura su 2 righe (22% e 10%) | X3: =IF(B3="","",IF(U3<>"",U3,C3)) | Y3: =IF(OR(N3="",V3<>""),"",N3-TODAY()) | Z3: =IF(B3="","",IF(V3<>"","Pagata",IF(N3="","Senza scadenza",IF(N3<TODAY(),"Scaduta",IF(N3-TODAY()<=7,"In scadenza","Futura")))))
B4: 45/A | C4: 46280 | D4: TD01 | E4: Esempio Beta Servizi S.n.c. (fittizia) | F4: IT00000000002 | J4: 100 | K4: 10 | L4: =IF(AND(J4="",K4=""),"",J4+K4) | M4: EUR | N4: 46310 | Q4: =IF(B4="","",IF(SUMPRODUCT(--($F$2:$F$8&"|"&$B$2:$B$8&"|"&$C$2:$C$8&"|"&$R$2:$R$8=F4&"|"&B4&"|"&C4&"|"&R4))>1,"Sì","")) | R4: 10 | T4: 2 | U4: 46281 | W4: DATI FITTIZI | X4: =IF(B4="","",IF(U4<>"",U4,C4)) | Y4: =IF(OR(N4="",V4<>""),"",N4-TODAY()) | Z4: =IF(B4="","",IF(V4<>"","Pagata",IF(N4="","Senza scadenza",IF(N4<TODAY(),"Scaduta",IF(N4-TODAY()<=7,"In scadenza","Futura")))))
B5: 7 | C5: 46285 | D5: TD01 | E5: Esempio Gamma Studio (fittizio) | F5: IT00000000003 | J5: 800 | K5: 0 | L5: =IF(AND(J5="",K5=""),"",J5+K5) | M5: EUR | N5: 46315 | Q5: =IF(B5="","",IF(SUMPRODUCT(--($F$2:$F$8&"|"&$B$2:$B$8&"|"&$C$2:$C$8&"|"&$R$2:$R$8=F5&"|"&B5&"|"&C5&"|"&R5))>1,"Sì","")) | R5: 0 | S5: N2.2 | T5: 3 | U5: 46286 | W5: DATI FITTIZI – fornitore senza IVA (N2.2) | X5: =IF(B5="","",IF(U5<>"",U5,C5)) | Y5: =IF(OR(N5="",V5<>""),"",N5-TODAY()) | Z5: =IF(B5="","",IF(V5<>"","Pagata",IF(N5="","Senza scadenza",IF(N5<TODAY(),"Scaduta",IF(N5-TODAY()<=7,"In scadenza","Futura")))))
B6: NC 12 | C6: 46290 | D6: TD04 | E6: Esempio Delta Ricambi S.p.A. (fittizia) | F6: IT00000000004 | J6: -100 | K6: -22 | L6: =IF(AND(J6="",K6=""),"",J6+K6) | M6: EUR | Q6: =IF(B6="","",IF(SUMPRODUCT(--($F$2:$F$8&"|"&$B$2:$B$8&"|"&$C$2:$C$8&"|"&$R$2:$R$8=F6&"|"&B6&"|"&C6&"|"&R6))>1,"Sì","")) | R6: 22 | T6: 4 | U6: 46290 | W6: DATI FITTIZI – nota di credito: importi negativi | X6: =IF(B6="","",IF(U6<>"",U6,C6)) | Y6: =IF(OR(N6="",V6<>""),"",N6-TODAY()) | Z6: =IF(B6="","",IF(V6<>"","Pagata",IF(N6="","Senza scadenza",IF(N6<TODAY(),"Scaduta",IF(N6-TODAY()<=7,"In scadenza","Futura")))))
B7: 9988 | C7: 46296 | D7: TD01 | E7: Esempio Epsilon Energia S.p.A. (fittizia) | F7: IT00000000005 | J7: 300 | K7: 30 | L7: =IF(AND(J7="",K7=""),"",J7+K7) | M7: EUR | N7: 46326 | Q7: =IF(B7="","",IF(SUMPRODUCT(--($F$2:$F$8&"|"&$B$2:$B$8&"|"&$C$2:$C$8&"|"&$R$2:$R$8=F7&"|"&B7&"|"&C7&"|"&R7))>1,"Sì","")) | R7: 10 | T7: 5 | U7: 46297 | W7: DATI FITTIZI | X7: =IF(B7="","",IF(U7<>"",U7,C7)) | Y7: =IF(OR(N7="",V7<>""),"",N7-TODAY()) | Z7: =IF(B7="","",IF(V7<>"","Pagata",IF(N7="","Senza scadenza",IF(N7<TODAY(),"Scaduta",IF(N7-TODAY()<=7,"In scadenza","Futura")))))
B8: 118/2026 | C8: 46266 | D8: TD01 | E8: Esempio Alfa Forniture S.r.l. (fittizia) | F8: IT00000000001 | J8: 1000 | K8: 220 | L8: =IF(AND(J8="",K8=""),"",J8+K8) | M8: EUR | N8: 46295 | Q8: =IF(B8="","",IF(SUMPRODUCT(--($F$2:$F$8&"|"&$B$2:$B$8&"|"&$C$2:$C$8&"|"&$R$2:$R$8=F8&"|"&B8&"|"&C8&"|"&R8))>1,"Sì","")) | R8: 22 | U8: 46267 | V8: 46294 | W8: DATI FITTIZI – inserita due volte per mostrare il controllo Duplicato | X8: =IF(B8="","",IF(U8<>"",U8,C8)) | Y8: =IF(OR(N8="",V8<>""),"",N8-TODAY()) | Z8: =IF(B8="","",IF(V8<>"","Pagata",IF(N8="","Senza scadenza",IF(N8<TODAY(),"Scaduta",IF(N8-TODAY()<=7,"In scadenza","Futura")))))
B10: DATI FITTIZI: aziende, partite IVA e importi inventati.
B11: Questo foglio mostra come compilare il modello: i tuoi dati vanno nel foglio "Registro fatture".
J13: Riepilogo IVA dell’esempio
J14: Aliquota IVA % | K14: Natura | L14: Imponibile | M14: IVA | N14: N. righe
J15: 22 | L15: =SUMIF($R$2:$R$8,J15,$J$2:$J$8) | M15: =SUMIF($R$2:$R$8,J15,$K$2:$K$8) | N15: =COUNTIF($R$2:$R$8,J15)
J16: 10 | L16: =SUMIF($R$2:$R$8,J16,$J$2:$J$8) | M16: =SUMIF($R$2:$R$8,J16,$K$2:$K$8) | N16: =COUNTIF($R$2:$R$8,J16)
J17: 0 | K17: N2.2 | L17: =SUMIF($S$2:$S$8,K17,$J$2:$J$8) | M17: =SUMIF($S$2:$S$8,K17,$K$2:$K$8) | N17: =COUNTIF($S$2:$S$8,K17)
J18: Totale | L18: =SUM(L15:L17) | M18: =SUM(M15:M17) | N18: =SUM(N15:N17)
